BEGIN:VCALENDAR
VERSION:2.0
PRODID:-//ChamberMaster//Event Calendar 2.0//EN
METHOD:PUBLISH
X-PUBLISHED-TTL:P3D
REFRESH-INTERVAL:P3D
CALSCALE:GREGORIAN
BEGIN:VEVENT
DTSTART:20180126T010000Z
DTEND:20180126T030000Z
X-MICROSOFT-CDO-ALLDAYEVENT:FALSE
SUMMARY:Safwat Saleem: Concerned\, but Powerless
DESCRIPTION:January 16   March 2\, 2018 Concerned\, but Powerless is artist Safwat Saleem's satirical response to the national political and cultural climate. Using repurposed vintage imagery\, a clean design aesthetic\, and his trademark wit\, Saleem created a series of brief\, uncomfortable and nervous soliloquies that give voice to our inner struggles. Join Vision Gallery for an artist reception on Thursday\, January 25\, 6   8 p.m. Vision Gallery is located at 10 E. Chicago Street\, in Downtown Chandler. The Gallery is open Monday through Friday\, 10 a.m.   5 p.m.\, and Saturday\, 10 a.m..   4 p.m.\, and admission is always free. More information on this exhibition can be found at visiongallery.org.
X-ALT-DESC;FMTTYPE=text/html:January 16 &ndash\; March 2\, 2018 Concerned\, but Powerless is artist Safwat Saleem&rsquo\;s satirical response to the national political and cultural climate. Using repurposed vintage imagery\, a clean design aesthetic\, and his trademark wit\, Saleem created a series of brief\, uncomfortable and nervous soliloquies that give voice to our inner struggles. Join Vision Gallery for an artist reception on Thursday\, January 25\, 6 &ndash\; 8 p.m. Vision Gallery is located at 10 E. Chicago Street\, in Downtown Chandler. The Gallery is open Monday through Friday\, 10 a.m. &ndash\; 5 p.m.\, and Saturday\, 10 a.m.. &ndash\; 4 p.m.\, and admission is always free. More information on this exhibition can be found at visiongallery.org.
LOCATION:Vision Gallery 10 E. Chicago Street\, Chandler
UID:e.1561.19633
SEQUENCE:3
DTSTAMP:20260423T233241Z
URL:https://business.chandlerchamber.com/events/details/safwat-saleem-concerned-but-powerless-19633
END:VEVENT

END:VCALENDAR
