BEGIN:VCALENDAR
VERSION:2.0
PRODID:-//ChamberMaster//Event Calendar 2.0//EN
METHOD:PUBLISH
X-PUBLISHED-TTL:P3D
REFRESH-INTERVAL:P3D
CALSCALE:GREGORIAN
BEGIN:VEVENT
DTSTART:20220704T160000Z
DTEND:20220704T210000Z
X-MICROSOFT-CDO-ALLDAYEVENT:FALSE
SUMMARY:San Tan Brewer Bunch
DESCRIPTION:Celebrate at our Downtown Chandler pub featuring our special WhiskeyCan Chicken + Rib Combo for $21.75!
X-ALT-DESC;FMTTYPE=text/html:<br />\n<span style="color:#212223\;"><span style="font-family:helvetica\,sans-serif\;"><span style="font-size:12.0pt\;">Celebrate&nbsp\;at our Downtown Chandler pub featuring our special WhiskeyCan Chicken + Rib Combo for $21.75!&nbsp\;</span></span></span>
LOCATION:SanTan Brewing 8 S. San Marcos Pl. Chandler\, AZ
UID:e.1561.41031
SEQUENCE:3
DTSTAMP:20260423T191006Z
URL:https://business.chandlerchamber.com/events/details/san-tan-brewer-bunch-41031
END:VEVENT

END:VCALENDAR
