BEGIN:VCALENDAR
VERSION:2.0
PRODID:-//ChamberMaster//Event Calendar 2.0//EN
METHOD:PUBLISH
X-PUBLISHED-TTL:P3D
REFRESH-INTERVAL:P3D
CALSCALE:GREGORIAN
BEGIN:VEVENT
DTSTART;VALUE=DATE:20220715
DTEND;VALUE=DATE:20220717
TRANSP:TRANSPARENT
X-MICROSOFT-CDO-ALLDAYEVENT:TRUE
SUMMARY:San Tan Brewery -Christmas in July
DESCRIPTION:For one-day only at our pub\, Winter Warmer and Jingle Jack Spiced Ale is coming back on draft\, Canzillas and growler refills! Also\, House smoked Turkey Pot Pie ( while supplies last)
X-ALT-DESC;FMTTYPE=text/html:<span style="color: rgb(34\, 34\, 34)\; font-family: helvetica\, sans-serif\; font-size: 16px\;">For one-day only at our pub\, Winter Warmer and Jingle Jack Spiced Ale is coming back on draft\, Canzillas and growler refills! Also\, House smoked Turkey Pot Pie ( while supplies last)</span>
LOCATION:SanTan Brewing 8 S. San Marcos Pl. Chandler\, AZ
UID:e.1561.41032
SEQUENCE:3
DTSTAMP:20260423T181100Z
URL:https://business.chandlerchamber.com/events/details/san-tan-brewery-christmas-in-july-41032
END:VEVENT

END:VCALENDAR
