BEGIN:VCALENDAR
VERSION:2.0
PRODID:-//ChamberMaster//Event Calendar 2.0//EN
METHOD:PUBLISH
X-PUBLISHED-TTL:P3D
REFRESH-INTERVAL:P3D
CALSCALE:GREGORIAN
BEGIN:VEVENT
DTSTART:20171116T230000Z
DTEND:20171117T010000Z
X-MICROSOFT-CDO-ALLDAYEVENT:FALSE
SUMMARY:Sandoval Design & Marketing
DESCRIPTION:Please join us for an appreciation of design and creativity on Thursday\, November 16\, 4pm - 6pm. We look forward to meeting you. Food and drink courtesy of Santan Brewing Company.\n\nRSVP: www.sandovaldesign.com/events
X-ALT-DESC;FMTTYPE=text/html:Please join us for an appreciation of design and creativity on Thursday\, November 16\, 4pm - 6pm. We look forward to meeting you. Food and drink courtesy of Santan Brewing Company.<br />\nRSVP: www.sandovaldesign.com/events
LOCATION:101 W Commonwealth Ave\, Chandler\, AZ (520) 840-7938
UID:e.1561.19627
SEQUENCE:3
DTSTAMP:20260424T022020Z
URL:https://business.chandlerchamber.com/events/details/sandoval-design-marketing-19627
END:VEVENT

END:VCALENDAR
