BEGIN:VCALENDAR
VERSION:2.0
PRODID:-//ChamberMaster//Event Calendar 2.0//EN
METHOD:PUBLISH
X-PUBLISHED-TTL:P3D
REFRESH-INTERVAL:P3D
CALSCALE:GREGORIAN
BEGIN:VEVENT
DTSTART:20180721T150000Z
DTEND:20180722T050000Z
X-MICROSOFT-CDO-ALLDAYEVENT:FALSE
SUMMARY:SanTan Brewing Company Christmas in July
DESCRIPTION:Our Annual Tradition! Christmas in July is set for Saturday\, July 21\, 2018! Featuring Santa's stashed kegs of Winter Warmer and served with our house made ginger snap cookies. Featuring smoked turkey tamales\, Christmas music all day and a visit from Santa Claus himself! Don't forget to grab your 32 oz. Canzillas to go  GET IT BEFORE IT'S GONE!
X-ALT-DESC;FMTTYPE=text/html:Our Annual Tradition! Christmas in July is set for Saturday\, July 21\, 2018! Featuring Santa&rsquo\;s stashed kegs of Winter Warmer and served with our house made ginger snap cookies. Featuring smoked turkey tamales\, Christmas music all day and a visit from Santa Claus himself! Don&rsquo\;t forget to grab your 32 oz. Canzillas to go&hellip\; GET IT BEFORE IT&rsquo\;S GONE!
LOCATION:SanTan Brewing Comany 8 S San Marcos Place Chandler\, AZ 85225
UID:e.1561.33705
SEQUENCE:3
DTSTAMP:20260423T151234Z
URL:https://business.chandlerchamber.com/events/details/santan-brewing-company-christmas-in-july-33705
END:VEVENT

END:VCALENDAR
