BEGIN:VCALENDAR
VERSION:2.0
PRODID:-//ChamberMaster//Event Calendar 2.0//EN
METHOD:PUBLISH
X-PUBLISHED-TTL:P3D
REFRESH-INTERVAL:P3D
CALSCALE:GREGORIAN
BEGIN:VEVENT
DTSTART:20180929T220000Z
DTEND:20180930T060000Z
X-MICROSOFT-CDO-ALLDAYEVENT:FALSE
SUMMARY:SanTan Oktoberfest
DESCRIPTION:The eleventh annual SanTan Oktoberfest is Saturday\, Sept. 29 from 3 - 11 p.m. Pre-sale tickets are $12. For more information\, visit the SanTan Oktoberfest website  To view event map: Oktoberfes
X-ALT-DESC;FMTTYPE=text/html:<span style="color:#222222\;"><span style="font-family:georgia\,serif\;"><span style="font-size:9.0pt\;">The eleventh annual <strong>SanTan Oktoberfest</strong> is Saturday\, Sept. 29 from 3 - 11 p.m. Pre-sale tickets are $12. For more information\, visit the SanTan Oktoberfest <a href="https://downtownchandler.us4.list-manage.com/track/click?u=fef0434c5faff0420463e9324&amp\;id=a768675475&amp\;e=6dd40dacc9" target="_blank"><span style="color:#00ADD8\;">website&nbsp\;</span></a>&nbsp\;To view event map: <a href="https://downtownchandler.us4.list-manage.com/track/click?u=fef0434c5faff0420463e9324&amp\;id=b567ed1cb8&amp\;e=6dd40dacc9" target="_blank"><span style="color:#00ADD8\;">Oktoberfes</span></a></span></span></span>
LOCATION:Down Town Chandler
UID:e.1561.34168
SEQUENCE:3
DTSTAMP:20260423T133904Z
URL:https://business.chandlerchamber.com/events/details/santan-oktoberfest-34168
END:VEVENT

END:VCALENDAR
