BEGIN:VCALENDAR
VERSION:2.0
PRODID:-//ChamberMaster//Event Calendar 2.0//EN
METHOD:PUBLISH
X-PUBLISHED-TTL:P3D
REFRESH-INTERVAL:P3D
CALSCALE:GREGORIAN
BEGIN:VEVENT
DTSTART:20170719T190000Z
DTEND:20170719T200000Z
X-MICROSOFT-CDO-ALLDAYEVENT:FALSE
SUMMARY:SBDC Surviving the Summer Season Marketing for Small Business
DESCRIPTION:CLICK HERE TO REGISTER\n\nThe Chandler Chamber in partnership with the SBDC presents\, "Marketing Tips for Surviving the Summer Season."\n\nAs temperatures in the Valley skyrocket\, sales can start dipping down.  Marketing guru Kristin Slice is the founder of Empowered Lab Communications and SBDC partner.  Kristin will take you through hot marketing tips for keeping a solid customer base during our summer season.
X-ALT-DESC;FMTTYPE=text/html:<p><span style="font-size:16px\;"><span style="font-family:arial\;"><a href="https://clients.azsbdc.net/reg.aspx?mode=event&amp\;event=10370182">CLICK HERE TO REGISTER</a><br />\nThe Chandler Chamber in partnership with the SBDC&nbsp\;presents\, &quot\;Marketing Tips for Surviving the Summer Season.&quot\;</span></span></p>\n\n<p><span style="font-size:16px\;"><span style="font-family:arial\;">As&nbsp\;temperatures in the Valley skyrocket\, sales can start dipping down. &nbsp\;Marketing guru Kristin Slice is the founder of Empowered Lab Communications and SBDC partner. &nbsp\;Kristin will take you through hot&nbsp\;marketing tips for keeping a solid customer base during our summer season.</span></span></p>\n
LOCATION:Chandler Chamber 25 S Arizona Pl. #201 Chandler\, AZ 85225
UID:e.1561.19077
SEQUENCE:3
DTSTAMP:20260424T080736Z
URL:https://business.chandlerchamber.com/events/details/sbdc-surviving-the-summer-season-marketing-for-small-business-19077
END:VEVENT

END:VCALENDAR
