BEGIN:VCALENDAR
VERSION:2.0
PRODID:-//ChamberMaster//Event Calendar 2.0//EN
METHOD:PUBLISH
X-PUBLISHED-TTL:P3D
REFRESH-INTERVAL:P3D
CALSCALE:GREGORIAN
BEGIN:VEVENT
DTSTART:20230331T230000Z
DTEND:20230401T020000Z
X-MICROSOFT-CDO-ALLDAYEVENT:FALSE
SUMMARY:SCHEEELS CAREER EXPO
DESCRIPTION:Chandler SCHEELS is hiring more than 400 employee-owners before we open this September and are hosting a career expo to explore these job opportunities with interested applicants.\n\n\n\nYou'll have the opporunity to meet company experts and learn about the variety of different full and part-time positions available\, the company culture and benefits\, and the best discount in retail! \n\nOn-site interviews for full-time positions will be available.  Applicants are encouraged to submit their application prior to attending the career expo.\n\n\n\nIf you are unsure of the position you are interested in\, please apply under the " General Application"\n\n\n\nApplications can be found here: https://bit.ly/41SWIYX
X-ALT-DESC;FMTTYPE=text/html:Chandler SCHEELS is hiring more than 400 employee-owners before we open this September and are hosting a career expo to explore these job opportunities with interested applicants.<br />\n<br />\nYou&#39\;ll have the opporunity to meet company experts and learn about the variety of different full and part-time positions available\, the company culture and benefits\, and the best discount in retail!&nbsp\;<br />\nOn-site interviews for full-time positions will be available.&nbsp\; Applicants are encouraged to submit their application prior to attending the career expo.<br />\n<br />\nIf you are unsure of the position you are interested in\, please apply under the &quot\; General Application&quot\;<br />\n<br />\nApplications can be found here: https://bit.ly/41SWIYX&nbsp\;
LOCATION:Scheels Career Center 1340 S Spectrum Blvd Chandler\, AZ 85286 Southeast of the Loop 101 Price Freeway / Loop 202 Santan Freeway interchange
UID:e.1561.44680
SEQUENCE:3
DTSTAMP:20260423T202732Z
URL:https://business.chandlerchamber.com/events/details/scheeels-career-expo-44680
END:VEVENT

END:VCALENDAR
