BEGIN:VCALENDAR
VERSION:2.0
PRODID:-//ChamberMaster//Event Calendar 2.0//EN
METHOD:PUBLISH
X-PUBLISHED-TTL:P3D
REFRESH-INTERVAL:P3D
CALSCALE:GREGORIAN
BEGIN:VEVENT
DTSTART:20220404T020000Z
DTEND:20220404T040000Z
X-MICROSOFT-CDO-ALLDAYEVENT:FALSE
SUMMARY:Scotty McCreery
DESCRIPTION:Join us for an evening with one of country music's hottest stars. North Carolina native Scotty McCreery shares his energetic live show which features his distinctive deep voice on songs that are a perfect combination of classic and modern country. This is a perfect date night with someone special. The multi-Platinum-selling singer/songwriter recently released his new album Same Truck\, featuring the No. 1 hit "You Time" and his current single "Damn Strait". His previous album featured three No. 1 hits: "Five More Minutes\," "This is It\," and "In Between." The ACM and CMT Award winning artist is celebrating the first 10 years of his career\, which started with his win on "American Idol" in 2011\, followed by making history as both the first artist of any musical genre and youngest male artist to debut their first album (Clear as Day) at No. 1 on the Billboard Top 200 Album Chart.
X-ALT-DESC;FMTTYPE=text/html:Join us for an evening with one of country music&rsquo\;s hottest stars. North Carolina native Scotty McCreery shares his energetic live show which features his distinctive deep voice on songs that are a perfect combination of classic and modern country. This is a perfect date night with someone special. The multi-Platinum-selling singer/songwriter recently released his new album Same Truck\, featuring the No. 1 hit &ldquo\;You Time&rdquo\; and his current single &ldquo\;Damn Strait&rdquo\;. His previous album featured three No. 1 hits: &ldquo\;Five More Minutes\,&rdquo\; &ldquo\;This is It\,&rdquo\; and &ldquo\;In Between.&rdquo\; The ACM and CMT Award winning artist is celebrating the first 10 years of his career\, which started with his win on &ldquo\;American Idol&rdquo\; in 2011\, followed by making history as both the first artist of any musical genre and youngest male artist to debut their first album (Clear as Day) at No. 1 on the Billboard Top 200 Album Chart.
LOCATION:Chandler Center for the Arts 250 N. Arizona Avenue Chandler\, AZ 85225
UID:e.1561.40345
SEQUENCE:3
DTSTAMP:20260423T221711Z
URL:https://business.chandlerchamber.com/events/details/scotty-mccreery-40345
END:VEVENT

END:VCALENDAR
