BEGIN:VCALENDAR
VERSION:2.0
PRODID:-//ChamberMaster//Event Calendar 2.0//EN
METHOD:PUBLISH
X-PUBLISHED-TTL:P3D
REFRESH-INTERVAL:P3D
CALSCALE:GREGORIAN
BEGIN:VEVENT
DTSTART:20190505T040000Z
DTEND:20190505T064500Z
X-MICROSOFT-CDO-ALLDAYEVENT:FALSE
SUMMARY:Selena Tribute Band
DESCRIPTION:Selena Tribute Band in Luxe Lounge
X-ALT-DESC;FMTTYPE=text/html:Selena Tribute Band in Luxe Lounge
LOCATION:UltraStar Multi-tainment Center @ Ak-Chin Circle
UID:e.1561.36700
SEQUENCE:3
DTSTAMP:20260423T020952Z
URL:https://business.chandlerchamber.com/events/details/selena-tribute-band-36700
END:VEVENT

END:VCALENDAR
