BEGIN:VCALENDAR
VERSION:2.0
PRODID:-//ChamberMaster//Event Calendar 2.0//EN
METHOD:PUBLISH
X-PUBLISHED-TTL:P3D
REFRESH-INTERVAL:P3D
CALSCALE:GREGORIAN
BEGIN:VEVENT
DTSTART:20190511T013000Z
DTEND:20190511T033000Z
X-MICROSOFT-CDO-ALLDAYEVENT:FALSE
SUMMARY:Sema Foundation Iftar Dinner:"Sharing The Ramadan Experience" with Chandler
DESCRIPTION:Sema Foundation is delighted to invite you to share our Ramadan Experience with our friends at City of Chandler and partners. Each year\, we are hosting more than 2000 guests and sharing more 4000 meals throughout the Ramadan with the efforts of our volunteers for FREE. This year\, we are offering 20 iftar dinner with various partners. On May 10th\, we are partnering with City of Chandler to host a joyful Friday evening at our place. Look forward to seeing you All.
X-ALT-DESC;FMTTYPE=text/html:Sema Foundation is delighted to invite you to share our Ramadan Experience with our friends at City of Chandler and partners. Each year\, we are hosting more than 2000 guests and sharing more 4000 meals throughout the Ramadan with the efforts of our volunteers for FREE. This year\, we are offering 20 iftar dinner with various partners. On May 10th\, we are partnering with City of Chandler to host a joyful Friday evening at our place. Look forward to seeing you All.
LOCATION:Sema Foundation HQ Office 325 North Austin Drive #4 Chandler\, AZ 85226
UID:e.1561.36703
SEQUENCE:3
DTSTAMP:20260423T020954Z
URL:https://business.chandlerchamber.com/events/details/sema-foundation-iftar-dinner-sharing-the-ramadan-experience-with-chandler-36703
END:VEVENT

END:VCALENDAR
