BEGIN:VCALENDAR
VERSION:2.0
PRODID:-//ChamberMaster//Event Calendar 2.0//EN
METHOD:PUBLISH
X-PUBLISHED-TTL:P3D
REFRESH-INTERVAL:P3D
CALSCALE:GREGORIAN
BEGIN:VEVENT
DTSTART:20171130T150000Z
DTEND:20171130T160000Z
X-MICROSOFT-CDO-ALLDAYEVENT:FALSE
SUMMARY:Senior Fall Prevention Class
DESCRIPTION:Every 15 seconds\, an older adult is seen in the ER for a fall related injury. The first step to preventing is education! Come enjoy coffee and snacks at Arizona Medical and Sports Rehab where we will teach you and your loved ones how to help prevent falls and what to do after a fall. \n\n\n\nThis is a FREE event and guests are welcome!
X-ALT-DESC;FMTTYPE=text/html:<p><span style="font-size:10.5pt\;font-family:&quot\;Calibri&quot\;\,sans-serif\;color:#4B4F56\;\nletter-spacing:-.1pt">Every 15 seconds\, an older adult is seen in the ER for a fall related injury. The first step to preventing is education! Come enjoy coffee and snacks at Arizona Medical and Sports Rehab where we will teach you and your loved ones how to help prevent falls and what to do after a fall.&nbsp\;<br />\n<br />\nThis is a FREE event and guests are welcome!</span><span style="font-family:\n&quot\;Calibri&quot\;\,sans-serif\;color:black"><o:p></o:p></span></p>\n
LOCATION:Arizona Medical and Sports Rehab (480) 878-4806 1840 E Warner Rd\, Ste 120 Tempe\, AZ 85284 AZMedSport.com
UID:e.1561.19624
SEQUENCE:3
DTSTAMP:20260424T021953Z
URL:https://business.chandlerchamber.com/events/details/senior-fall-prevention-class-19624
END:VEVENT

END:VCALENDAR
