BEGIN:VCALENDAR
VERSION:2.0
PRODID:-//ChamberMaster//Event Calendar 2.0//EN
METHOD:PUBLISH
X-PUBLISHED-TTL:P3D
REFRESH-INTERVAL:P3D
CALSCALE:GREGORIAN
BEGIN:VEVENT
DTSTART:20190413T160000Z
DTEND:20190413T190000Z
X-MICROSOFT-CDO-ALLDAYEVENT:FALSE
SUMMARY:SENIOR RESOURCE FAIR
DESCRIPTION:Valuable FREE information for our 55+ community\, showcasing many of the Valley's Senior Care Providers (FREE Continental Breakfast)
X-ALT-DESC;FMTTYPE=text/html:Valuable FREE information for our 55+ community\, showcasing many of the Valley&#39\;s Senior Care Providers (FREE Continental Breakfast)
LOCATION:PRAISE AND WORSHIP CENTER 2551 N ARIZONA AVE CHANDLER\, AZ 85225
UID:e.1561.36643
SEQUENCE:3
DTSTAMP:20260423T032951Z
URL:https://business.chandlerchamber.com/events/details/senior-resource-fair-36643
END:VEVENT

END:VCALENDAR
