BEGIN:VCALENDAR
VERSION:2.0
PRODID:-//ChamberMaster//Event Calendar 2.0//EN
METHOD:PUBLISH
X-PUBLISHED-TTL:P3D
REFRESH-INTERVAL:P3D
CALSCALE:GREGORIAN
BEGIN:VEVENT
DTSTART:20200830T001500Z
DTEND:20200830T021500Z
X-MICROSOFT-CDO-ALLDAYEVENT:FALSE
SUMMARY:Seton Catholic Preparatory 65th Anniversary Virtual Gala
DESCRIPTION:Join us in celebrating 65 Years of Seton! Seton Catholic Preparatory has been a staple in the Chandler Community and our 65th Anniversary Gala will fund the renovation of our historic Chandler campus over the next two years. In addition to the renovation project\, proceeds will also go toward financial aid to help make a Catholic education accessible to all families.
X-ALT-DESC;FMTTYPE=text/html:Join us in celebrating 65 Years of Seton! Seton Catholic Preparatory has been a staple in the Chandler Community and our 65th Anniversary Gala will fund the renovation of our historic Chandler campus over the next two years. In addition to the renovation project\, proceeds will also go toward financial aid to help make a Catholic education accessible to all families.
LOCATION:Virtual Event https://www.setoncatholic.org/apps/pages/gala
UID:e.1561.39004
SEQUENCE:3
DTSTAMP:20260424T211529Z
URL:https://business.chandlerchamber.com/events/details/seton-catholic-preparatory-65th-anniversary-virtual-gala-39004
END:VEVENT

END:VCALENDAR
