BEGIN:VCALENDAR
VERSION:2.0
PRODID:-//ChamberMaster//Event Calendar 2.0//EN
METHOD:PUBLISH
X-PUBLISHED-TTL:P3D
REFRESH-INTERVAL:P3D
CALSCALE:GREGORIAN
BEGIN:VEVENT
DTSTART:20261024T023000Z
DTEND:20261024T050000Z
X-MICROSOFT-CDO-ALLDAYEVENT:FALSE
SUMMARY:Shanghai Ballet
DESCRIPTION:The internationally acclaimed Shanghai Ballet brings one of the most treasured works in classical ballet to the stage: Giselle. A cornerstone of the Romantic ballet tradition\, Giselle tells the hauntingly beautiful story of a peasant girl who falls in love with a nobleman disguised as a villager. This timeless story of love\, betrayal\, and redemption comes to life through the breathtaking artistry of one of the world's premier ballet companies. Whether you're a lifelong ballet lover or experiencing this classic for the first time\, this unforgettable evening of dance showcases the grace\, drama\, and emotional depth that have made Giselle a masterpiece for generations.
X-ALT-DESC;FMTTYPE=text/html:The internationally acclaimed Shanghai Ballet brings one of the most treasured works in classical ballet to the stage: Giselle. A cornerstone of the Romantic ballet tradition\, Giselle tells the hauntingly beautiful story of a peasant girl who falls in love with a nobleman disguised as a villager. This timeless story of love\, betrayal\, and redemption comes to life through the breathtaking artistry of one of the world&rsquo\;s premier ballet companies. Whether you&rsquo\;re a lifelong ballet lover or experiencing this classic for the first time\, this unforgettable evening of dance showcases the grace\, drama\, and emotional depth that have made Giselle a masterpiece for generations.
LOCATION:Chandler Center for the Arts 250 N Arizona Ave
UID:e.1561.52323
SEQUENCE:3
DTSTAMP:20260424T075622Z
URL:https://business.chandlerchamber.com/events/details/shanghai-ballet-52323
END:VEVENT

END:VCALENDAR
