BEGIN:VCALENDAR
VERSION:2.0
PRODID:-//ChamberMaster//Event Calendar 2.0//EN
METHOD:PUBLISH
X-PUBLISHED-TTL:P3D
REFRESH-INTERVAL:P3D
CALSCALE:GREGORIAN
BEGIN:VEVENT
DTSTART:20260118T220000Z
DTEND:20260119T020000Z
X-MICROSOFT-CDO-ALLDAYEVENT:FALSE
SUMMARY:Showtime Series- Go Your Own Way: Songs of Fleetwood Mac
DESCRIPTION:With over 120 million records sold\, Fleetwood Mac remains one of the most iconic bands in rock history. Join us for an unforgettable evening celebrating their legendary music\, performed live by Showtune Productions' renowned Take It Easy: Songs of the '70s band. This tribute captures the evolution of Fleetwood Mac from their roots as a 1960s British blues band to their meteoric rise in America with the addition of Stevie Nicks and Lindsey Buckingham. Sing along to timeless hits like "Dreams\," "Go Your Own Way\," and "Landslide\," and relive the magic of the '70s in this dynamic\, high-energy performance. Single tickets go on sale November 21. Part of the Showtime Series Join us for Sunday matinee performances that celebrate three of the greatest performers of our time. Get tickets for all three shows at $66\, $84\, or $108 to save $8 per ticket!
X-ALT-DESC;FMTTYPE=text/html:With over 120 million records sold\, Fleetwood Mac remains one of the most iconic bands in rock history. Join us for an unforgettable evening celebrating their legendary music\, performed live by Showtune Productions&rsquo\; renowned Take It Easy: Songs of the &#39\;70s band. This tribute captures the evolution of Fleetwood Mac&mdash\;from their roots as a 1960s British blues band to their meteoric rise in America with the addition of Stevie Nicks and Lindsey Buckingham. Sing along to timeless hits like &ldquo\;Dreams\,&rdquo\; &ldquo\;Go Your Own Way\,&rdquo\; and &ldquo\;Landslide\,&rdquo\; and relive the magic of the &#39\;70s in this dynamic\, high-energy performance. Single tickets go on sale November 21. Part of the Showtime Series Join us for Sunday matinee performances that celebrate three of the greatest performers of our time. Get tickets for all three shows at $66\, $84\, or $108 to save $8 per ticket!
LOCATION:Chandler Center for the Arts 250 N Arizona Ave
UID:e.1561.51860
SEQUENCE:3
DTSTAMP:20260424T051542Z
URL:https://business.chandlerchamber.com/events/details/showtime-series-go-your-own-way-songs-of-fleetwood-mac-51860
END:VEVENT

END:VCALENDAR
