BEGIN:VCALENDAR
VERSION:2.0
PRODID:-//ChamberMaster//Event Calendar 2.0//EN
METHOD:PUBLISH
X-PUBLISHED-TTL:P3D
REFRESH-INTERVAL:P3D
CALSCALE:GREGORIAN
BEGIN:VEVENT
DTSTART:20170606T013000Z
DTEND:20170606T033000Z
X-MICROSOFT-CDO-ALLDAYEVENT:FALSE
SUMMARY:Shred That Debt!!
DESCRIPTION:Join us for an educational workshop to learn how to eliminate interest on debt. So....what could you do if you had no more debt payments? Take more vacations? Build your retirement accounts? Invest in real estate? The possibilities are endless. Pay off your mortgage in as little as 1/3 to 1/2 the time using cutting-edge\, 21st-century financial solutions! Testimonial by Jim R. I started using the Debt Shredder on January 1\, 2014\, at that time\, we had three mortgages totaling $117\,025.97. To date\, June 6\, 2016\, I was able to pay off two of the mortgages and reduce our debt to $28\,096.54 and we saved about $46\,242.63 in interest. It was hard to imagine being debt free\, but on March 10\, 2017\, Praise God\, it will be real for my family. I can't wait!! I highly recommend this program\, the success I am having with it changed my outlook on life\, it gives me confidence and it put me in position to stop worrying about retirement and start planning for it. Thanks and have a great day.
X-ALT-DESC;FMTTYPE=text/html:Join us for an educational workshop to learn how to eliminate interest on debt. So....what could you do if you had no more debt payments? Take more vacations? Build your retirement accounts? Invest in real estate? The possibilities are endless. Pay off your mortgage in as little as 1/3 to 1/2 the time using cutting-edge\, 21st-century financial solutions! Testimonial by Jim R. I started using the Debt Shredder on January 1\, 2014\, at that time\, we had three mortgages totaling $117\,025.97. To date\, June 6\, 2016\, I was able to pay off two of the mortgages and reduce our debt to $28\,096.54 and we saved about $46\,242.63 in interest. It was hard to imagine being debt free\, but on March 10\, 2017\, Praise God\, it will be real for my family. I can&#39\;t wait!! I highly recommend this program\, the success I am having with it changed my outlook on life\, it gives me confidence and it put me in position to stop worrying about retirement and start planning for it. Thanks and have a great day.
LOCATION:Sedona Room (downstairs) at Childrens Dental Village 7360 S McClintock Dr (north of Elliot Rd) Tempe\, AZ 85283
UID:e.1561.18878
SEQUENCE:3
DTSTAMP:20260424T105654Z
URL:https://business.chandlerchamber.com/events/details/shred-that-debt-06-05-2017-18878
END:VEVENT

END:VCALENDAR
