BEGIN:VCALENDAR
VERSION:2.0
PRODID:-//ChamberMaster//Event Calendar 2.0//EN
METHOD:PUBLISH
X-PUBLISHED-TTL:P3D
REFRESH-INTERVAL:P3D
CALSCALE:GREGORIAN
BEGIN:VEVENT
DTSTART:20170711T013000Z
DTEND:20170711T033000Z
X-MICROSOFT-CDO-ALLDAYEVENT:FALSE
SUMMARY:Shred That Debt!!
DESCRIPTION:Banks understand and use the concept - "No Stagnant Money" Join our workshop to learn how consumers can use these concepts to eliminate interest on debt. So...what could you do if you had no more debt payments? Take more vacations? Build your retirement account? Save for children's college education? The possibilities are endless. Pay off your mortgage in as little as 1/3 to 1/2 the time using cutting-edge\, 21st century financial solutions! Learn about Julie L. who was "pleased to learn how paying our debts ahead of the bank schedule will enable our cash accumulation significantly...to the tune of about $3 million "future dollars."
X-ALT-DESC;FMTTYPE=text/html:Banks understand and use the concept - &quot\;No Stagnant Money&quot\; Join our workshop to learn how consumers can use these concepts to eliminate interest on debt. So...what could you do if you had no more debt payments? Take more vacations? Build your retirement account? Save for children&#39\;s college education? The possibilities are endless. Pay off your mortgage in as little as 1/3 to 1/2 the time using cutting-edge\, 21st century financial solutions! Learn about Julie L. who was &quot\;pleased to learn how paying our debts ahead of the bank schedule will enable our cash accumulation significantly...to the tune of about $3 million &quot\;future dollars.&quot\;
LOCATION:Sedona Room (downstairs) at Childrens Dental Village 7360 S McClintock Dr (north of Elliot Rd) Tempe\, AZ 85283
UID:e.1561.18879
SEQUENCE:3
DTSTAMP:20260424T080141Z
URL:https://business.chandlerchamber.com/events/details/shred-that-debt-07-10-2017-18879
END:VEVENT

END:VCALENDAR
