BEGIN:VCALENDAR
VERSION:2.0
PRODID:-//ChamberMaster//Event Calendar 2.0//EN
METHOD:PUBLISH
X-PUBLISHED-TTL:P3D
REFRESH-INTERVAL:P3D
CALSCALE:GREGORIAN
BEGIN:VEVENT
DTSTART:20190414T003000Z
DTEND:20190414T040000Z
X-MICROSOFT-CDO-ALLDAYEVENT:FALSE
SUMMARY:Si Se Puede Foundation Dinner
DESCRIPTION:You're Invited to Si Se Puede Foundation's Educators of the Year Awards Recognition Dinner Saturday\, April 13\, 2019 Reception: 5:30 pm Dinner & Awards Ceremony: 6:45 pm RSVP by April 2\,2019
X-ALT-DESC;FMTTYPE=text/html:You&rsquo\;re Invited to Si Se Puede Foundation&rsquo\;s Educators of the Year Awards Recognition Dinner Saturday\, April 13\, 2019 Reception: 5:30 pm Dinner &amp\; Awards Ceremony: 6:45 pm RSVP by April 2\,2019
LOCATION:Wild Horse Pass Hotel & Casino 5040 Wild Horse Pass Boulevard\, Chandler\, AZ 85226
UID:e.1561.36632
SEQUENCE:3
DTSTAMP:20260423T032958Z
URL:https://business.chandlerchamber.com/events/details/si-se-puede-foundation-dinner-36632
END:VEVENT

END:VCALENDAR
