BEGIN:VCALENDAR
VERSION:2.0
PRODID:-//ChamberMaster//Event Calendar 2.0//EN
METHOD:PUBLISH
X-PUBLISHED-TTL:P3D
REFRESH-INTERVAL:P3D
CALSCALE:GREGORIAN
BEGIN:VEVENT
DTSTART:20191017T230000Z
DTEND:20191018T020000Z
X-MICROSOFT-CDO-ALLDAYEVENT:FALSE
SUMMARY:SIP SHOP EAT SAMPLE
DESCRIPTION:SIP SHOP EAT SAMPLE -\n\nHosted by Decadent Macaron & Fresh Start Wellness CBD
X-ALT-DESC;FMTTYPE=text/html:SIP SHOP EAT SAMPLE -<br />\nHosted by Decadent Macaron &amp\; Fresh Start Wellness CBD
LOCATION:Palette Collective 505 S Chandler Village Dr Chandler AZ
UID:e.1561.37946
SEQUENCE:3
DTSTAMP:20260422T201941Z
URL:https://business.chandlerchamber.com/events/details/sip-shop-eat-sample-37946
END:VEVENT

END:VCALENDAR
