BEGIN:VCALENDAR
VERSION:2.0
PRODID:-//ChamberMaster//Event Calendar 2.0//EN
METHOD:PUBLISH
X-PUBLISHED-TTL:P3D
REFRESH-INTERVAL:P3D
CALSCALE:GREGORIAN
BEGIN:VEVENT
DTSTART:20251213T190000Z
DTEND:20251214T010000Z
X-MICROSOFT-CDO-ALLDAYEVENT:FALSE
SUMMARY:Sippin' Santas Pub Crawl
DESCRIPTION:The Sippin' Santas Pub Crawl will sleigh Downtown Chandler with $5.00 specialty drinks\, food\, and fun at the merriest restaurants in town!\n\n\n\n\nExperience the Sippin' Santas Pub Crawl like never before by signing up to get on Santa's V.I.P List! When you're on the list\, you get an extra hour and a half (10:30am-12:00pm) of drinks\, games\, food\, and fun\, exclusively at the La Ristra New Mexican Kitchen! Start off your Pub Crawl right and enjoy themed cocktails\, a holiday swag item\, and live music. The Sippin' Santas Pub Crawl will then kick off at 12:00pm\, and you will be able to enjoy all of the great participating bars and restaurants until the event ends at 6:00pm.\n\nThe Nice List (12:00pm-3:00pm) and Naughty List (3:00pm - 6:00pm) participants can check in up to 30 minutes before their ticket time at the Downtown Chandler office: 178 W Boston St. Come enjoy $5.00 drink specials\, live entertainment\, endless Santa selfies\, and a taste of the best specialty drinks in town! It's a ho-ho-holiday celebration so come decked out in your best Santa costume and cruise around on a self-guided pub crawl with your friends.\n\nGet your tickets now as this jolly crawl sells out fast!\n\n \n\n2025 Live Music/Entertainment\n\nFringe Benefits 11:30 - 3:30 at Murphy's Law Irish Pub\n\nTodd Minnix Acoustic at Craft64
X-ALT-DESC;FMTTYPE=text/html:<div class="undefined" style="margin: 0px\; padding: 0px\; box-sizing: border-box\; color: rgb(57\, 54\, 79)\; font-family: &quot\;Neue Plak&quot\;\, -apple-system\, BlinkMacSystemFont\, Roboto\, &quot\;Helvetica Neue&quot\;\, Helvetica\, Tahoma\, Arial\, sans-serif\; font-size: 14px\;">\n<div class="summary" style="margin: 0px 0px 23.994px\; padding: 0px\; box-sizing: border-box\; color: rgb(88\, 81\, 99)\; font-variant-numeric: normal\; font-variant-east-asian: normal\; font-variant-alternates: normal\; font-size-adjust: none\; font-kerning: auto\; font-optical-sizing: auto\; font-feature-settings: normal\; font-variation-settings: normal\; font-variant-position: normal\; font-variant-emoji: normal\; font-stretch: normal\; font-size: 18px\; line-height: 1.333\; font-family: &quot\;Neue Plak&quot\;\; letter-spacing: 0.1px\; word-break: break-word\;"><span style="font-size:16px\;"><span style="font-family:arial\;"><span style="color:#000000\;">The Sippin&#39\; Santas Pub Crawl will sleigh Downtown Chandler with $5.00 specialty drinks\, food\, and fun at the merriest restaurants in town!</span></span></span></div>\n</div>\n\n<div class="structured-content-rich-text" style="margin: 0px\; padding: 0px\; box-sizing: border-box\; text-rendering: optimizelegibility\; color: rgb(57\, 54\, 79)\; font-family: &quot\;Neue Plak&quot\;\, -apple-system\, BlinkMacSystemFont\, Roboto\, &quot\;Helvetica Neue&quot\;\, Helvetica\, Tahoma\, Arial\, sans-serif\; font-size: 14px\;">\n<div class="eds-text--left" style="margin: 0px\; padding: 0px\; box-sizing: border-box\;">\n<p style="margin: 12px 0px\; padding: 0px\; box-sizing: border-box\; color: rgb(88\, 81\, 99)\; font-size: 16px\;"><span style="font-size:16px\;"><span style="font-family:arial\;"><span style="color:#000000\;">Experience the Sippin&#39\; Santas Pub Crawl like never before by signing up to get on Santa&#39\;s V.I.P List! When you&#39\;re on the list\, you get an extra hour and a half (10:30am-12:00pm) of drinks\, games\, food\, and fun\, exclusively at the&nbsp\;<span style="font-weight: 600\; box-sizing: border-box\;">La Ristra New Mexican Kitchen</span>! Start off your Pub Crawl right and enjoy themed cocktails\, a holiday swag item\, and live music. The Sippin&#39\; Santas Pub Crawl will then kick off at 12:00pm\, and you will be able to enjoy all of the great participating bars and restaurants until the event ends at 6:00pm.</span></span></span></p>\n\n<p style="margin: 12px 0px\; padding: 0px\; box-sizing: border-box\; color: rgb(88\, 81\, 99)\; font-size: 16px\;"><span style="font-size:16px\;"><span style="font-family:arial\;"><span style="color:#000000\;">The Nice List (12:00pm-3:00pm) and Naughty List (3:00pm - 6:00pm) participants can check in up to 30 minutes before their ticket time at the&nbsp\;<span style="font-weight: 600\; box-sizing: border-box\;">Downtown Chandler office: 178 W Boston St</span>. Come enjoy $5.00 drink specials\, live entertainment\, endless Santa selfies\, and a taste of the best specialty drinks in town! It&#39\;s a ho-ho-holiday celebration so come decked out in your best Santa costume and cruise around on a self-guided pub crawl with your friends.</span></span></span></p>\n\n<p style="margin: 12px 0px\; padding: 0px\; box-sizing: border-box\; color: rgb(88\, 81\, 99)\; font-size: 16px\;"><span style="font-size:16px\;"><span style="font-family:arial\;"><span style="color:#000000\;">Get your tickets now as this jolly crawl sells out fast!</span></span></span><br />\n&nbsp\;</p>\n\n<h3 style="margin: 0px\; padding: 0px\; box-sizing: border-box\; font-size: 20px\; color: rgb(88\, 81\, 99)\; font-weight: 600\;"><span style="font-size:16px\;"><span style="font-family:arial\;"><span style="color:#000000\;">2025 Live Music/Entertainment</span></span></span></h3>\n\n<p style="margin: 12px 0px\; padding: 0px\; box-sizing: border-box\; color: rgb(88\, 81\, 99)\; font-size: 16px\;"><span style="font-size:16px\;"><span style="font-family:arial\;"><span style="color:#000000\;">Fringe Benefits 11:30 - 3:30 at Murphy&#39\;s Law Irish Pub</span></span></span></p>\n\n<p style="margin: 12px 0px\; padding: 0px\; box-sizing: border-box\; color: rgb(88\, 81\, 99)\; font-size: 16px\;"><span style="font-size:16px\;"><span style="font-family:arial\;"><span style="color:#000000\;">Todd Minnix Acoustic at Craft64</span></span></span></p>\n</div>\n</div>\n
LOCATION:Downtown Chandler Community Partnership
UID:e.1561.51909
SEQUENCE:3
DTSTAMP:20260424T051131Z
URL:https://business.chandlerchamber.com/events/details/sippin-santas-pub-crawl-12-13-2025-51909
END:VEVENT

END:VCALENDAR
