BEGIN:VCALENDAR
VERSION:2.0
PRODID:-//ChamberMaster//Event Calendar 2.0//EN
METHOD:PUBLISH
X-PUBLISHED-TTL:P3D
REFRESH-INTERVAL:P3D
CALSCALE:GREGORIAN
BEGIN:VEVENT
DTSTART:20180609T173000Z
DTEND:20180609T190000Z
X-MICROSOFT-CDO-ALLDAYEVENT:FALSE
SUMMARY:Skirting the Law: Crime History of Chandler
DESCRIPTION:The Our Stories Speaker Series\, presented by Chandler Museum\, Chandler Public Library\, Chandler Historical Society\, and Friends of the Chandler Public Library\, continues with upcoming programs. The final Our Stories program of the season ends with a look at Chandler's darker side. One June 9\, 10:30 a.m.\, the Basha Library hosts Skirting the Law: Crime History of Chandler. Join Chandler Museum's Jody Crago and explore the darker side of our past! In a sense\, Chandler was built on a crime. City founder Dr. A.J. Chandler's land fraud schemes helped people settle in the area but led to a federal Congressional hearing questioning the Chandler Improvement Company's methods to purchase and grant land. Uncover other crimes of note that have happened in Chandler over the years such as the 1935 crime spree in downtown Chandler that led businesses to band together and hire a night watchman\, as well as a robbery that led to a kidnapping! These stories will be intertwined with the history of Chandler's police force. For more information visit\, www.chandlermuseum.org or call 480-782-2751.
X-ALT-DESC;FMTTYPE=text/html:The Our Stories Speaker Series\, presented by Chandler Museum\, Chandler Public Library\, Chandler Historical Society\, and Friends of the Chandler Public Library\, continues with upcoming programs. The final Our Stories program of the season ends with a look at Chandler&rsquo\;s darker side. One June 9\, 10:30 a.m.\, the Basha Library hosts Skirting the Law: Crime History of Chandler. Join Chandler Museum&#39\;s Jody Crago and explore the darker side of our past! In a sense\, Chandler was built on a crime. City founder Dr. A.J. Chandler&#39\;s land fraud schemes helped people settle in the area but led to a federal Congressional hearing questioning the Chandler Improvement Company&rsquo\;s methods to purchase and grant land. Uncover other crimes of note that have happened in Chandler over the years&mdash\;such as the 1935 crime spree in downtown Chandler that led businesses to band together and hire a night watchman\, as well as a robbery that led to a kidnapping! These stories will be intertwined with the history of Chandler&#39\;s police force. For more information visit\, www.chandlermuseum.org or call 480-782-2751.
LOCATION:Basha Library 5990 S. Val Vista Dr. Chandler\, AZ 85296
UID:e.1561.33646
SEQUENCE:3
DTSTAMP:20260423T164146Z
URL:https://business.chandlerchamber.com/events/details/skirting-the-law-crime-history-of-chandler-33646
END:VEVENT

END:VCALENDAR
