BEGIN:VCALENDAR
VERSION:2.0
PRODID:-//ChamberMaster//Event Calendar 2.0//EN
METHOD:PUBLISH
X-PUBLISHED-TTL:P3D
REFRESH-INTERVAL:P3D
CALSCALE:GREGORIAN
BEGIN:VEVENT
DTSTART:20141202T210000Z
DTEND:20141202T223000Z
X-MICROSOFT-CDO-ALLDAYEVENT:FALSE
SUMMARY:Small Business Acadmey Class
DESCRIPTION:Small Business Academy Class\n \n\nThe Small Business Academy is a five week program designed for busy entrepreneurs. You will receive a certificate if you attend all five classes. \n\n\n\nFall Schedule:\n\nOct 21   Business Strategy & Marketing Plan\n\nOct 28   Blogging & Social Media\n\nNov 4   Web Marketing & SEO\n\nNov 18   Sales\n\nDec 02- Financial Plan & Funding Options\n\n \n\n*This is brought to you by the SBDC please register www.maricoipa-sbdc.com
X-ALT-DESC;FMTTYPE=text/html:<div style="text-align: center\;"><strong><span style="font-size: medium\;"><span style="font-family: calibri\;">Small Business Academy Class</span></span></strong></div>\n&nbsp\;<br />\n<span style="font-size: medium\;"><span style="font-family: calibri\;">The Small Business Academy is a five week program designed for busy entrepreneurs. You will receive a certificate if you attend all five classes. </span></span><br />\n<br />\n<span style="font-size: medium\;"><span style="font-family: calibri\;">Fall Schedule:</span></span><br />\n<span style="font-size: medium\;"><span style="font-family: calibri\;">Oct 21 &ndash\; Business Strategy &amp\; Marketing Plan</span></span><br />\n<span style="font-size: medium\;"><span style="font-family: calibri\;">Oct 28 &ndash\; Blogging &amp\; Social Media</span></span><br />\n<span style="font-size: medium\;"><span style="font-family: calibri\;">Nov 4 &ndash\; Web Marketing &amp\; SEO</span></span><br />\n<span style="font-size: medium\;"><span style="font-family: calibri\;">Nov 18 &ndash\; Sales</span></span><br />\n<span style="font-size: medium\;"><span style="font-family: calibri\;">Dec 02- Financial Plan &amp\; Funding Options</span></span><br />\n&nbsp\;<br />\n<u><strong><span style="font-size: medium\;"><span style="font-family: calibri\;">*This is brought to you by the SBDC please register </span></span><a href="http://www.maricoipa-sbdc.com/"><span style="font-size: medium\;"><span style="font-family: calibri\;"><span style="color: rgb(5\, 99\, 193)\;">www.maricoipa-sbdc.com</span></span></span></a></strong></u><br />\n&nbsp\;
LOCATION:Chandler Chamber of Commerce 25 S. Arizona Pl\, Suite 201 Chandler\, AZ 85225
UID:e.1561.11045
SEQUENCE:3
DTSTAMP:20260426T032300Z
URL:https://business.chandlerchamber.com/events/details/small-business-acadmey-class-12-02-2014-11045
END:VEVENT

END:VCALENDAR
