BEGIN:VCALENDAR
VERSION:2.0
PRODID:-//ChamberMaster//Event Calendar 2.0//EN
METHOD:PUBLISH
X-PUBLISHED-TTL:P3D
REFRESH-INTERVAL:P3D
CALSCALE:GREGORIAN
BEGIN:VEVENT
DTSTART:20150923T153000Z
DTEND:20150923T163000Z
X-MICROSOFT-CDO-ALLDAYEVENT:FALSE
SUMMARY:Small Business HR - Business Purpose & Branding
DESCRIPTION:Tired of turn-over and the struggle to find new employees\, especially good ones that get you and fit the team? With 40% of employees leaving within 6 months of hire\, 56% leaving within the first year and 40% of these leaving for the same or less pay\, it is critical to not only find the right employees but have practices in place to keep them. Today we will take the first steps - Finding the best employees for your business and getting them started on the right foot! You will leave the session with new tips and tricks on how to use your current mission/purpose/guiding principles/practices to attract the right candidates that will easily be embraced by the team and naturally drive the organization to reach\, or exceed\, your financial and service goals.
X-ALT-DESC;FMTTYPE=text/html:Tired of turn-over and the struggle to find new employees\, especially good ones that get you and fit the team? With 40% of employees leaving within 6 months of hire\, 56% leaving within the first year and 40% of these leaving for the same or less pay\, it is critical to not only find the right employees but have practices in place to keep them. Today we will take the first steps - Finding the best employees for your business and getting them started on the right foot! You will leave the session with new tips and tricks on how to use your current mission/purpose/guiding principles/practices to attract the right candidates that will easily be embraced by the team and naturally drive the organization to reach\, or exceed\, your financial and service goals.
LOCATION:Microsoft at Chandler Fashion Center - 3111 W. Chandler Blvd.\; park near Wildflower Bakery on 1st floor.
UID:e.1561.13186
SEQUENCE:3
DTSTAMP:20260425T171456Z
URL:https://business.chandlerchamber.com/events/details/small-business-hr-business-purpose-branding-09-23-2015-13186
END:VEVENT

END:VCALENDAR
