BEGIN:VCALENDAR
VERSION:2.0
PRODID:-//ChamberMaster//Event Calendar 2.0//EN
METHOD:PUBLISH
X-PUBLISHED-TTL:P3D
REFRESH-INTERVAL:P3D
CALSCALE:GREGORIAN
BEGIN:VEVENT
DTSTART:20180725T160000Z
DTEND:20180725T173000Z
X-MICROSOFT-CDO-ALLDAYEVENT:FALSE
SUMMARY:Small Business Summer School
DESCRIPTION:School is in session! Constant Contact\, Google\, LinkedIn and VistaPrint are teaming up to share the key strategies\, tools and products for a great end of year and upcoming Holiday season. \n\n \n\nJoin us at the Chandler Chamber of Commerce as we tune in to this hour-long webinar and learn! We will have a facilitated group discussion after!
X-ALT-DESC;FMTTYPE=text/html:<p><span style="color: rgb(17\, 17\, 17)\; font-family: Roboto\, Arial\, sans-serif\; white-space: pre-wrap\;">School is in session! Constant Contact\, Google\, LinkedIn and VistaPrint are teaming up to share the key strategies\, tools and products for a great end of year and upcoming Holiday season. </span></p>\n\n<p>&nbsp\;</p>\n\n<p>Join us at the Chandler Chamber of Commerce as we tune in to this hour-long webinar and learn! We will have a facilitated&nbsp\;group discussion after!</p>\n
LOCATION:Chandler Chamber of Commerce
UID:e.1561.33707
SEQUENCE:3
DTSTAMP:20260423T150734Z
URL:https://business.chandlerchamber.com/events/details/small-business-summer-school-33707
END:VEVENT

END:VCALENDAR
