BEGIN:VCALENDAR
VERSION:2.0
PRODID:-//ChamberMaster//Event Calendar 2.0//EN
METHOD:PUBLISH
X-PUBLISHED-TTL:P3D
REFRESH-INTERVAL:P3D
CALSCALE:GREGORIAN
BEGIN:VEVENT
DTSTART:20180208T203000Z
DTEND:20180208T230000Z
X-MICROSOFT-CDO-ALLDAYEVENT:FALSE
SUMMARY:Social Media Marketing 101
DESCRIPTION:Never before in the history of the Internet has the average business owner had so much control over their marketing - and it can be overwhelming! This class will help you see how it all works and what you need to learn to make it happen for your business. There are dozens of free tools to help you promote your business and get your message out.
X-ALT-DESC;FMTTYPE=text/html:Never before in the history of the Internet has the average business owner had so much control over their marketing - and it can be overwhelming! This class will help you see how it all works and what you need to learn to make it happen for your business. There are dozens of free tools to help you promote your business and get your message out.
LOCATION:Greater Phoenix SCORE 2828 N. Central Ave Suite 800 Phoenix\, AZ\, 85004
UID:e.1561.20915
SEQUENCE:3
DTSTAMP:20260423T215923Z
URL:https://business.chandlerchamber.com/events/details/social-media-marketing-101-20915
END:VEVENT

END:VCALENDAR
