BEGIN:VCALENDAR
VERSION:2.0
PRODID:-//ChamberMaster//Event Calendar 2.0//EN
METHOD:PUBLISH
X-PUBLISHED-TTL:P3D
REFRESH-INTERVAL:P3D
CALSCALE:GREGORIAN
BEGIN:VEVENT
DTSTART:20260215T023000Z
DTEND:20260215T043000Z
X-MICROSOFT-CDO-ALLDAYEVENT:FALSE
SUMMARY:Sons of Serendip
DESCRIPTION:Billboard charting classical-crossover quartet Sons of Serendip won the hearts of fans and judges alike as finalists on America's Got Talent with their ethereal and emotionally stirring interpretations of pop music. Called "the most musically talented contestants on the show" by Howie Mandel\, Sons of Serendip has captivated audiences around the world. This Valentine's Day\, treat your sweetheart to Sons of Serendip's unique blend of vocals\, harp\, piano and cello. Experience their beautiful arrangements of songs like "Somewhere Only We Know" and "Hallelujah" in a romantic evening of music.
X-ALT-DESC;FMTTYPE=text/html:Billboard charting classical-crossover quartet Sons of Serendip won the hearts of fans and judges alike as finalists on America&#39\;s Got Talent with their ethereal and emotionally stirring interpretations of pop music. Called &ldquo\;the most musically talented contestants on the show&rdquo\; by Howie Mandel\, Sons of Serendip has captivated audiences around the world. This Valentine&rsquo\;s Day\, treat your sweetheart to Sons of Serendip&rsquo\;s unique blend of vocals\, harp\, piano and cello. Experience their beautiful arrangements of songs like &ldquo\;Somewhere Only We Know&rdquo\; and &ldquo\;Hallelujah&rdquo\; in a romantic evening of music.
LOCATION:Chandler Center for the Arts 250 N Arizona Ave Chandler Az 85225
UID:e.1561.51765
SEQUENCE:3
DTSTAMP:20260424T022427Z
URL:https://business.chandlerchamber.com/events/details/sons-of-serendip-02-14-2026-51765
END:VEVENT

END:VCALENDAR
