BEGIN:VCALENDAR
VERSION:2.0
PRODID:-//ChamberMaster//Event Calendar 2.0//EN
METHOD:PUBLISH
X-PUBLISHED-TTL:P3D
REFRESH-INTERVAL:P3D
CALSCALE:GREGORIAN
BEGIN:VEVENT
DTSTART:20180421T190000Z
DTEND:20180422T040000Z
X-MICROSOFT-CDO-ALLDAYEVENT:FALSE
SUMMARY:Southwest Cajun Fest
DESCRIPTION:Southwest Cajun Fest\, brought to you by Abita Brewing is set to return on Saturday\, April 21\, 2018 from noon   9 p.m. in downtown Chandler. Showcasing the heart and soul of New Orleans paired with Arizona fusion and flavor for a full day packed with cultural festivities\, food and entertainment. Southwest Cajun Fest celebrates Cajun culture\, cuisine and handcrafted beer\, and will feature live music with jazz\, blues and contemporary swing revival bands. Festival patrons will feel transported to the southeastern region of Louisiana during the fest. The festival will feature live entertainment and a variety of food vendors serving up regional dishes. Festivities also includes themed zones\, parades\, fun and festive celebration.
X-ALT-DESC;FMTTYPE=text/html:Southwest Cajun Fest\, brought to you by Abita Brewing is set to return on Saturday\, April 21\, 2018 from noon &ndash\; 9 p.m. in downtown Chandler. Showcasing the heart and soul of New Orleans paired with Arizona fusion and flavor for a full day packed with cultural festivities\, food and entertainment. Southwest Cajun Fest celebrates Cajun culture\, cuisine and handcrafted beer\, and will feature live music with jazz\, blues and contemporary swing revival bands. Festival patrons will feel transported to the southeastern region of Louisiana during the fest. The festival will feature live entertainment and a variety of food vendors serving up regional dishes. Festivities also includes themed zones\, parades\, fun and festive celebration.
LOCATION:178 E Commonwealth Ave Chandler\, AZ 85225
UID:e.1561.33635
SEQUENCE:3
DTSTAMP:20260423T193203Z
URL:https://business.chandlerchamber.com/events/details/southwest-cajun-fest-33635
END:VEVENT

END:VCALENDAR
