BEGIN:VCALENDAR
VERSION:2.0
PRODID:-//ChamberMaster//Event Calendar 2.0//EN
METHOD:PUBLISH
X-PUBLISHED-TTL:P3D
REFRESH-INTERVAL:P3D
CALSCALE:GREGORIAN
BEGIN:VEVENT
DTSTART:20200215T170000Z
DTEND:20200215T190000Z
X-MICROSOFT-CDO-ALLDAYEVENT:FALSE
SUMMARY:Southwest Cajun Festival
DESCRIPTION:
X-ALT-DESC;FMTTYPE=text/html:
LOCATION:Dr. A.J Chandler Park Stage Plaza
UID:e.1561.38874
SEQUENCE:3
DTSTAMP:20260420T151908Z
URL:https://business.chandlerchamber.com/events/details/southwest-cajun-festival-38874
END:VEVENT

END:VCALENDAR
