BEGIN:VCALENDAR
VERSION:2.0
PRODID:-//ChamberMaster//Event Calendar 2.0//EN
METHOD:PUBLISH
X-PUBLISHED-TTL:P3D
REFRESH-INTERVAL:P3D
CALSCALE:GREGORIAN
BEGIN:VEVENT
DTSTART:20170713T183000Z
DTEND:20170713T193000Z
X-MICROSOFT-CDO-ALLDAYEVENT:FALSE
SUMMARY:Speak Up! The Future of Salesforce is Voice Control
DESCRIPTION:Voice control is the future of computing now that information is woven into the fabric of every salesperson's life. Now\, every sales executive's dream is a reality with their voice as the passport for everyday tasks. Oriented toward Salesforce Developers and Administrators\, this session will provide tools and best practices to drive integration between Amazon Echo and Google Home with Salesforce. Sign up today to learn how to take the busywork out of work. During this session\, you'll learn: 1. How to integrate with your Salesforce CRM 2. The role of the Google Actions Interface  Google Actions & Alexa Skills Kit (ASK) 3. How to improve the productivity of the executives Walk away with more than just lunch! We will also have a raffle and give away an Amazon Echo. Each month\, MST Solutions experts will teach and discuss programs that enhance Salesforce in short 45- minute presentations. The events in the MST Solutions Lunch & Learn Series will provide participants with the opportunity to learn how to better utilize and enhance Salesforce\, discuss the valuable concepts being presented and meet with like-minded IT professionals in a unique\, interactive setting.
X-ALT-DESC;FMTTYPE=text/html:Voice control is the future of computing now that information is woven into the fabric of every salesperson&rsquo\;s life. Now\, every sales executive&rsquo\;s dream is a reality with their voice as the passport for everyday tasks. Oriented toward Salesforce Developers and Administrators\, this session will provide tools and best practices to drive integration between Amazon Echo and Google Home with Salesforce. Sign up today to learn how to take the busywork out of work. During this session\, you&rsquo\;ll learn: 1. How to integrate with your Salesforce CRM 2. The role of the Google Actions Interface &ndash\;Google Actions &amp\; Alexa Skills Kit (ASK) 3. How to improve the productivity of the executives Walk away with more than just lunch! We will also have a raffle and give away an Amazon Echo. Each month\, MST Solutions experts will teach and discuss programs that enhance Salesforce in short 45- minute presentations. The events in the MST Solutions Lunch &amp\; Learn Series will provide participants with the opportunity to learn how to better utilize and enhance Salesforce\, discuss the valuable concepts being presented and meet with like-minded IT professionals in a unique\, interactive setting.
LOCATION:MST Solutions 2195 W Chandler Blvd. Suite 160 Chandler\, AZ 85224
UID:e.1561.19076
SEQUENCE:3
DTSTAMP:20260424T080713Z
URL:https://business.chandlerchamber.com/events/details/speak-up-the-future-of-salesforce-is-voice-control-19076
END:VEVENT

END:VCALENDAR
