BEGIN:VCALENDAR
VERSION:2.0
PRODID:-//ChamberMaster//Event Calendar 2.0//EN
METHOD:PUBLISH
X-PUBLISHED-TTL:P3D
REFRESH-INTERVAL:P3D
CALSCALE:GREGORIAN
BEGIN:VEVENT
DTSTART:20210428T003000Z
DTEND:20210428T013000Z
X-MICROSOFT-CDO-ALLDAYEVENT:FALSE
SUMMARY:Speaker Series Phoenix Start Up Week: Bionic Branding with Cozette Phifer
DESCRIPTION:Bionic Branding - You can rebuild your brand. You have the technology and you have the capability to make it better than it was before. - and it won't cost six million dollars! Learn how to implement proven methodologies to unwrap\, analyze\, reposition and restart your company's image and see how those tactics were used successfully to reinvigorate some of the world's most well-known and respected brands.
X-ALT-DESC;FMTTYPE=text/html:Bionic Branding - You can rebuild your brand. You have the technology and you have the capability to make it better than it was before. - and it won&#39\;t cost six million dollars! Learn how to implement proven methodologies to unwrap\, analyze\, reposition and restart your company&#39\;s image and see how those tactics were used successfully to reinvigorate some of the world&#39\;s most well-known and respected brands.
LOCATION:Zoom
UID:e.1561.39692
SEQUENCE:3
DTSTAMP:20260424T225240Z
URL:https://business.chandlerchamber.com/events/details/speaker-series-phoenix-start-up-week-bionic-branding-with-cozette-phifer-39692
END:VEVENT

END:VCALENDAR
