BEGIN:VCALENDAR
VERSION:2.0
PRODID:-//ChamberMaster//Event Calendar 2.0//EN
METHOD:PUBLISH
X-PUBLISHED-TTL:P3D
REFRESH-INTERVAL:P3D
CALSCALE:GREGORIAN
BEGIN:VEVENT
DTSTART:20150818T160000Z
DTEND:20150818T170000Z
X-MICROSOFT-CDO-ALLDAYEVENT:FALSE
SUMMARY:Special Meeting to Discuss City Code for Food Trucks
DESCRIPTION:Attention: Chandler Restaurant Owners\, Property Managers\, Developers and Interested Parties\n\nThe City of Chandler wants your feedback. Food trucks are a growing business in Chandler.  The city is looking at revising the code pertaining to food trucks and would welcome your input.  City officials will be at the Chandler Chamber of Commerce located at 25 S Arizona Pl\, #201\, Chandler\, AZ 85225\, on Tuesday\, August 18\, 2015 from 9 am to 10 am to discuss the proposed changes that could affect your business.\n\nWe want to ensure the city hears from both sides of this important issue.  We need you!\n\nPlease RSVP your attendance to info@chandlerchamber.com.
X-ALT-DESC;FMTTYPE=text/html:Attention: Chandler Restaurant Owners\, Property Managers\, Developers and Interested Parties<br />\nThe City of Chandler wants your feedback. Food trucks are a growing business in Chandler.&nbsp\; The city is looking at revising the code pertaining to food trucks and would welcome your input.&nbsp\; City officials will be at the Chandler Chamber of Commerce located at 25 S Arizona Pl\, #201\, Chandler\, AZ 85225\, on Tuesday\, August 18\, 2015 from 9 am to 10 am to discuss the proposed changes that could affect your business.<br />\nWe want to ensure the city hears from both sides of this important issue.&nbsp\; We need you!<br />\nPlease RSVP your attendance to <a href="mailto:info@chandlerchamber.com">info@chandlerchamber.com</a>.&nbsp\;
LOCATION:Chandler Chamber of Commerce 25 S Arizona Pl\, Ste 201 Chandler\, AZ 85225
UID:e.1561.13138
SEQUENCE:3
DTSTAMP:20260425T183910Z
URL:https://business.chandlerchamber.com/events/details/special-meeting-to-discuss-city-code-for-food-trucks-08-18-2015-13138
END:VEVENT

END:VCALENDAR
