BEGIN:VCALENDAR
VERSION:2.0
PRODID:-//ChamberMaster//Event Calendar 2.0//EN
METHOD:PUBLISH
X-PUBLISHED-TTL:P3D
REFRESH-INTERVAL:P3D
CALSCALE:GREGORIAN
BEGIN:VEVENT
DTSTART:20220708T160000Z
DTEND:20220708T180000Z
X-MICROSOFT-CDO-ALLDAYEVENT:FALSE
SUMMARY:SPLASH AT CHANDLER FASHION CENTER
DESCRIPTION:FINAL DAY OF EVENT!!!\n\nEvery family gets a FREE HARKINS THEATRES 2022 Loyalty Cup!\n\nHarkins rewards moviegoers with $2 soft drink refills every time they bring their Loyalty Cup to the movies through the end of 2022. With an engaging new design annually\, Harkins Loyalty Cups have become collector's items that fans look forward to every year.
X-ALT-DESC;FMTTYPE=text/html:<h2 style="margin: 0px 0px 15px\; font-size: 24px\; line-height: 1em\; letter-spacing: 0.05em\; color: rgb(102\, 102\, 105)\; font-family: Metropolis\; text-align: center\;"><span style="font-weight: 600\;">FINAL DAY OF EVENT!!!</span></h2>\n\n<h2 style="margin: 25px 0px 15px\; font-size: 24px\; line-height: 1em\; letter-spacing: 0.05em\; color: rgb(102\, 102\, 105)\; font-family: Metropolis\; text-align: center\;">Every family gets a FREE&nbsp\;<a href="https://www.shopchandlerfashioncenter.com/Directory/Details/11856" style="background: transparent\; color: rgb(178\, 82\, 131)\; cursor: pointer\; display: inline-block\; text-transform: uppercase\;"><span style="font-weight: 600\;">HARKINS THEATRES</span></a>&nbsp\;2022 Loyalty Cup!</h2>\n\n<h4 style="margin: 25px 0px 15px\; font-size: 1.2rem\; line-height: 22px\; color: rgb(102\, 102\, 105)\; font-family: Metropolis\; letter-spacing: 0.8px\; text-align: center\;">Harkins rewards moviegoers with $2 soft drink refills every time they bring their Loyalty Cup to the movies through the end of 2022. With an engaging new design annually\, Harkins Loyalty Cups have become collector&rsquo\;s items that fans look forward to every year.</h4>\n
LOCATION:Chandler Fashion Center 3111 W Chandler Blvd Chandler\, AZ 85226 BETWEEN HARKINS & THE OLD SPAGHETTI FACTORY
UID:e.1561.41042
SEQUENCE:3
DTSTAMP:20260423T175400Z
URL:https://business.chandlerchamber.com/events/details/splash-at-chandler-fashion-center-41042
END:VEVENT

END:VCALENDAR
