BEGIN:VCALENDAR
VERSION:2.0
PRODID:-//ChamberMaster//Event Calendar 2.0//EN
METHOD:PUBLISH
X-PUBLISHED-TTL:P3D
REFRESH-INTERVAL:P3D
CALSCALE:GREGORIAN
BEGIN:VEVENT
DTSTART:20180414T160000Z
DTEND:20180414T200000Z
X-MICROSOFT-CDO-ALLDAYEVENT:FALSE
SUMMARY:Spring Fling Festival of Fun!
DESCRIPTION:Backfit Health + Spine wants to celebrate our appreciation for our patients by hosting a Spring Fling at our Chandler location! Look forward to: Henna Artist Caricature Artist Free Chair Massage Free Food/Drinks Bounce House Rattlers Cheerleaders Dozens of Free Door Prizes Over $2000 in Prizes Live Entertainment Local Vendors Fire Truck Grand Prizes include: 1yr of Free Monthly Massage (Value $900) Apple Watch Series 3 (Value $500) All proceeds from the event benefit the 100 Club of AZ.
X-ALT-DESC;FMTTYPE=text/html:Backfit Health + Spine wants to celebrate our appreciation for our patients by hosting a Spring Fling at our Chandler location! Look forward to: Henna Artist Caricature Artist Free Chair Massage Free Food/Drinks Bounce House Rattlers Cheerleaders Dozens of Free Door Prizes Over $2000 in Prizes Live Entertainment Local Vendors Fire Truck Grand Prizes include: 1yr of Free Monthly Massage (Value $900) Apple Watch Series 3 (Value $500) All proceeds from the event benefit the 100 Club of AZ.
LOCATION:1949 W Ray Rd #23 Chandler\, AZ 85224
UID:e.1561.32579
SEQUENCE:3
DTSTAMP:20260423T193828Z
URL:https://business.chandlerchamber.com/events/details/spring-fling-festival-of-fun-32579
END:VEVENT

END:VCALENDAR
