BEGIN:VCALENDAR
VERSION:2.0
PRODID:-//ChamberMaster//Event Calendar 2.0//EN
METHOD:PUBLISH
X-PUBLISHED-TTL:P3D
REFRESH-INTERVAL:P3D
CALSCALE:GREGORIAN
BEGIN:VEVENT
DTSTART:20260307T160000Z
DTEND:20260307T200000Z
X-MICROSOFT-CDO-ALLDAYEVENT:FALSE
SUMMARY:Spring Spectacular
DESCRIPTION:Spring Spectacular: Free Family Event Enjoy crafts\, outdoor activities\, music\, dancing\, giveaways\, and family fun for no cost! Kids can bring a basket for goodies. Saturday\, March 7 | 9am to 1pm | Chandler\, AZ Open to all\; no registration required.
X-ALT-DESC;FMTTYPE=text/html:Spring Spectacular: Free Family Event Enjoy crafts\, outdoor activities\, music\, dancing\, giveaways\, and family fun for no cost! Kids can bring a basket for goodies. Saturday\, March 7 | 9am to 1pm | Chandler\, AZ Open to all\; no registration required.
LOCATION:ASU CHANDLER INNOVATION CENTER 249 E CHICAGO ST CHANDLER\, AZ 85225
UID:e.1561.52023
SEQUENCE:3
DTSTAMP:20260424T021953Z
URL:https://business.chandlerchamber.com/events/details/spring-spectacular-52023
END:VEVENT

END:VCALENDAR
