BEGIN:VCALENDAR
VERSION:2.0
PRODID:-//ChamberMaster//Event Calendar 2.0//EN
METHOD:PUBLISH
X-PUBLISHED-TTL:P3D
REFRESH-INTERVAL:P3D
CALSCALE:GREGORIAN
BEGIN:VEVENT
DTSTART:20190308T000000Z
DTEND:20190308T013000Z
X-MICROSOFT-CDO-ALLDAYEVENT:FALSE
SUMMARY:Starting the Conversation
DESCRIPTION:When talking about aging and changing needs\, often just starting the conversation is the hardest part. Learn to talk with your loved ones about their healthcare needs\, when is the right time to make a move? How to find the right community? Asking for help\, setting limits and avoiding caregiver burnout. Developing your support system\, creating your blueprint for living well.
X-ALT-DESC;FMTTYPE=text/html:When talking about aging and changing needs\, often just starting the conversation is the hardest part. Learn to talk with your loved ones about their healthcare needs\, when is the right time to make a move? How to find the right community? Asking for help\, setting limits and avoiding caregiver burnout. Developing your support system\, creating your blueprint for living well.
LOCATION:The Village at Ocotillo Senior Living Community
UID:e.1561.36615
SEQUENCE:3
DTSTAMP:20260423T045111Z
URL:https://business.chandlerchamber.com/events/details/starting-the-conversation-36615
END:VEVENT

END:VCALENDAR
