BEGIN:VCALENDAR
VERSION:2.0
PRODID:-//ChamberMaster//Event Calendar 2.0//EN
METHOD:PUBLISH
X-PUBLISHED-TTL:P3D
REFRESH-INTERVAL:P3D
CALSCALE:GREGORIAN
BEGIN:VEVENT
DTSTART:20230311T170000Z
DTEND:20230311T210000Z
X-MICROSOFT-CDO-ALLDAYEVENT:FALSE
SUMMARY:State Forty Eight 10 Year Anniversary Party
DESCRIPTION:Come and celebrate with State Forty Eight - it is their 10 year Anniversary Party!\n\n\n\nState Fort Eight has clothing for all\, inspired by Arizona.  Rooted in the Community and dedicated to giving back\, they are more than just a T shirt company.    State Forty Eight produces clothing\, hats\, socks\, wallets\, water bottles\, coffee mugs\, decals\, pet products\, flags\, stickers\, and more! \n\n\n\nCome and shop their newest store\, enjoy some music\, and meet people of the community!
X-ALT-DESC;FMTTYPE=text/html:Come and celebrate with State Forty Eight - it is their 10 year Anniversary Party!<br />\n<br />\nState Fort Eight has clothing for all\, inspired by Arizona.&nbsp\; Rooted in the Community and dedicated to giving back\, they are more than just a T shirt company.&nbsp\; &nbsp\; State Forty Eight produces clothing\, hats\, socks\, wallets\, water bottles\, coffee mugs\, decals\, pet products\, flags\, stickers\, and more!&nbsp\;<br />\n<br />\nCome and shop their newest store\, enjoy some music\, and meet people of the community!&nbsp\;<br />\n&nbsp\;
LOCATION:325 N Ash St Gilbert\, AZ
UID:e.1561.44673
SEQUENCE:3
DTSTAMP:20260423T203039Z
URL:https://business.chandlerchamber.com/events/details/state-forty-eight-10-year-anniversary-party-44673
END:VEVENT

END:VCALENDAR
