BEGIN:VCALENDAR
VERSION:2.0
PRODID:-//ChamberMaster//Event Calendar 2.0//EN
METHOD:PUBLISH
X-PUBLISHED-TTL:P3D
REFRESH-INTERVAL:P3D
CALSCALE:GREGORIAN
BEGIN:VEVENT
DTSTART:20190413T180000Z
DTEND:20190413T210000Z
X-MICROSOFT-CDO-ALLDAYEVENT:FALSE
SUMMARY:STEM Saturday
DESCRIPTION:STEM Saturday- Join us and our partners\, the Museum of Science and Sustainability\, for investigations into science topics. March 9- Microorganisms Explore the microscopic world of microorganisms with the Museum of Science and Sustainability. You'll see just how small bacteria really are and how fast they can multiply. Learn about the secret ingredients that keep the ecosystem - and your own body - running. Look at your own hair\, or shirt\, magnified 400x. April 13- Marvelous Materials Test the tensile strength of your hair and show us what you're made of at the Museum of Science and Sustainability. Compare the mettle of different metals and use ferrofluids to see magnetism in action. May 11- Subirrigation Come explore the world of gardening for beginners with these hands-on activities. Learn about seeds\, water conservation\, and plant your own mini garden in an upcycled water bottle. 11am-2pm Drop-in Great for ages 6-12 Saguaro Room
X-ALT-DESC;FMTTYPE=text/html:STEM Saturday- Join us and our partners\, the Museum of Science and Sustainability\, for investigations into science topics. March 9- Microorganisms Explore the microscopic world of microorganisms with the Museum of Science and Sustainability. You&#39\;ll see just how small bacteria really are and how fast they can multiply. Learn about the secret ingredients that keep the ecosystem - and your own body - running. Look at your own hair\, or shirt\, magnified 400x. April 13- Marvelous Materials Test the tensile strength of your hair and show us what you&#39\;re made of at the Museum of Science and Sustainability. Compare the mettle of different metals and use ferrofluids to see magnetism in action. May 11- Subirrigation Come explore the world of gardening for beginners with these hands-on activities. Learn about seeds\, water conservation\, and plant your own mini garden in an upcycled water bottle. 11am-2pm Drop-in Great for ages 6-12 Saguaro Room
LOCATION:Chandler Museum 300 S. Chandler Village Dr. Chandler\, AZ 85226
UID:e.1561.36399
SEQUENCE:3
DTSTAMP:20260423T033150Z
URL:https://business.chandlerchamber.com/events/details/stem-saturday-03-09-2019-36399
END:VEVENT

END:VCALENDAR
