BEGIN:VCALENDAR
VERSION:2.0
PRODID:-//ChamberMaster//Event Calendar 2.0//EN
METHOD:PUBLISH
X-PUBLISHED-TTL:P3D
REFRESH-INTERVAL:P3D
CALSCALE:GREGORIAN
BEGIN:VEVENT
DTSTART:20190713T180000Z
DTEND:20190713T210000Z
X-MICROSOFT-CDO-ALLDAYEVENT:FALSE
SUMMARY:STEM Saturday
DESCRIPTION:11am-2pm Drop-in Great for ages 6-12 Saguaro Room STEM Saturday- Join us and our partners\, the Museum of Science and Sustainability\, for investigations into science topics. July 13- Power of the Sun
X-ALT-DESC;FMTTYPE=text/html:11am-2pm Drop-in Great for ages 6-12 Saguaro Room STEM Saturday- Join us and our partners\, the Museum of Science and Sustainability\, for investigations into science topics. July 13- Power of the Sun
LOCATION:Chandler Museum - Saguaro Room
UID:e.1561.36760
SEQUENCE:3
DTSTAMP:20260422T230432Z
URL:https://business.chandlerchamber.com/events/details/stem-saturday-07-13-2019-36760
END:VEVENT

END:VCALENDAR
