BEGIN:VCALENDAR
VERSION:2.0
PRODID:-//ChamberMaster//Event Calendar 2.0//EN
METHOD:PUBLISH
X-PUBLISHED-TTL:P3D
REFRESH-INTERVAL:P3D
CALSCALE:GREGORIAN
BEGIN:VEVENT
DTSTART:20180120T170000Z
DTEND:20180120T200000Z
X-MICROSOFT-CDO-ALLDAYEVENT:FALSE
SUMMARY:STEM Saturday
DESCRIPTION:Make waves with the Museum of Science and Sustainability at Tumbleweed Ranch! Interact with all kinds of waves from sounds to splashes. You'll have the chance to see a noise and hear faster than the speed of sound! The program is free. Drop by anytime between 10am-1pm. Hosted by the Chandler Museum. Enjoy science experiments with the whole family. Programming done in partnership with the Museum of Science and Sustainability. Join us one Saturday every month\, October - May\, 10am-1pm\, Tumbleweed Ranch (located at Tumbleweed Park\, 2250 S. McQueen Road)\, Free*.
X-ALT-DESC;FMTTYPE=text/html:Make waves with the Museum of Science and Sustainability at Tumbleweed Ranch! Interact with all kinds of waves from sounds to splashes. You&#39\;ll have the chance to see a noise and hear faster than the speed of sound! The program is free. Drop by anytime between 10am-1pm. Hosted by the Chandler Museum. Enjoy science experiments with the whole family. Programming done in partnership with the Museum of Science and Sustainability. Join us one Saturday every month\, October - May\, 10am-1pm\, Tumbleweed Ranch (located at Tumbleweed Park\, 2250 S. McQueen Road)\, Free*.
LOCATION:Tumbleweed Ranch at Tumbleweed Park 2250 S. McQueen Rd. Chandler\, 85286
UID:e.1561.19178
SEQUENCE:3
DTSTAMP:20260423T232836Z
URL:https://business.chandlerchamber.com/events/details/stem-saturday-19178
END:VEVENT

END:VCALENDAR
