BEGIN:VCALENDAR
VERSION:2.0
PRODID:-//ChamberMaster//Event Calendar 2.0//EN
METHOD:PUBLISH
X-PUBLISHED-TTL:P3D
REFRESH-INTERVAL:P3D
CALSCALE:GREGORIAN
BEGIN:VEVENT
DTSTART:20180414T170000Z
DTEND:20180414T200000Z
X-MICROSOFT-CDO-ALLDAYEVENT:FALSE
SUMMARY:STEM Saturday - Electricity: May the Spark be With You
DESCRIPTION:Experience electricity with the Museum of Science and Sustainability at Tumbleweed Ranch. See how science progressed from static to circuits\, and make some sparks of your own! Harness the humble electron to create light\, magnets\, and motors. The program is free. Drop by anytime between 10am-1pm. Hosted by the Chandler Museum. Enjoy science experiments with the whole family. Programming done in partnership with the Museum of Science and Sustainability. Join us one Saturday every month\, October - May\, 10am-1pm\, Tumbleweed Ranch (located at Tumbleweed Park\, 2250 S. McQueen Road)\, Free*.
X-ALT-DESC;FMTTYPE=text/html:Experience electricity with the Museum of Science and Sustainability at Tumbleweed Ranch. See how science progressed from static to circuits\, and make some sparks of your own! Harness the humble electron to create light\, magnets\, and motors. The program is free. Drop by anytime between 10am-1pm. Hosted by the Chandler Museum. Enjoy science experiments with the whole family. Programming done in partnership with the Museum of Science and Sustainability. Join us one Saturday every month\, October - May\, 10am-1pm\, Tumbleweed Ranch (located at Tumbleweed Park\, 2250 S. McQueen Road)\, Free*.
LOCATION:Tumbleweed Ranch at Tumbleweed Park 2250 S. McQueen Rd. Chandler\, AZ 85286
UID:e.1561.19181
SEQUENCE:3
DTSTAMP:20260423T210609Z
URL:https://business.chandlerchamber.com/events/details/stem-saturday-electricity-may-the-spark-be-with-you-19181
END:VEVENT

END:VCALENDAR
