BEGIN:VCALENDAR
VERSION:2.0
PRODID:-//ChamberMaster//Event Calendar 2.0//EN
METHOD:PUBLISH
X-PUBLISHED-TTL:P3D
REFRESH-INTERVAL:P3D
CALSCALE:GREGORIAN
BEGIN:VEVENT
DTSTART:20200111T180000Z
DTEND:20200111T210000Z
X-MICROSOFT-CDO-ALLDAYEVENT:FALSE
SUMMARY:STEM Saturday- Lights\, Candles and Games-The Science of Family Bonding.
DESCRIPTION:Come light a table\, learn about candles\, and play a game together!
X-ALT-DESC;FMTTYPE=text/html:Come light a table\, learn about candles\, and play a game together!
LOCATION:Chandler Museum
UID:e.1561.38580
SEQUENCE:3
DTSTAMP:20260420T152612Z
URL:https://business.chandlerchamber.com/events/details/stem-saturday-lights-candles-and-games-the-science-of-family-bonding-38580
END:VEVENT

END:VCALENDAR
