BEGIN:VCALENDAR
VERSION:2.0
PRODID:-//ChamberMaster//Event Calendar 2.0//EN
METHOD:PUBLISH
X-PUBLISHED-TTL:P3D
REFRESH-INTERVAL:P3D
CALSCALE:GREGORIAN
BEGIN:VEVENT
DTSTART:20171209T170000Z
DTEND:20171209T200000Z
X-MICROSOFT-CDO-ALLDAYEVENT:FALSE
SUMMARY:STEM Saturday - Marvelous Materials
DESCRIPTION:Test the tensile strength of your hair and show us what you're made of at the Museum of Science and Sustainability at Tumbleweed Ranch! You'll also get to compare the mettle of different metals and use ferrofluids to see magnetism in action. The program is free. Drop by anytime between 10am-1pm. Hosted by the Chandler Museum. Enjoy science experiments with the whole family. Programming done in partnership with the Museum of Science and Sustainability. Join us one Saturday every month\, October - May\, 10am-1pm\, Tumbleweed Ranch (located at Tumbleweed Park\, 2250 S. McQueen Road)\, Free*.
X-ALT-DESC;FMTTYPE=text/html:Test the tensile strength of your hair and show us what you&rsquo\;re made of at the Museum of Science and Sustainability at Tumbleweed Ranch! You&rsquo\;ll also get to compare the mettle of different metals and use ferrofluids to see magnetism in action. The program is free. Drop by anytime between 10am-1pm. Hosted by the Chandler Museum. Enjoy science experiments with the whole family. Programming done in partnership with the Museum of Science and Sustainability. Join us one Saturday every month\, October - May\, 10am-1pm\, Tumbleweed Ranch (located at Tumbleweed Park\, 2250 S. McQueen Road)\, Free*.
LOCATION:Tumbleweed Ranch at Tumbleweed Park 2250 S. McQueen Rd. Chandler\, 85286
UID:e.1561.19177
SEQUENCE:3
DTSTAMP:20260424T021957Z
URL:https://business.chandlerchamber.com/events/details/stem-saturday-marvelous-materials-19177
END:VEVENT

END:VCALENDAR
