BEGIN:VCALENDAR
VERSION:2.0
PRODID:-//ChamberMaster//Event Calendar 2.0//EN
METHOD:PUBLISH
X-PUBLISHED-TTL:P3D
REFRESH-INTERVAL:P3D
CALSCALE:GREGORIAN
BEGIN:VEVENT
DTSTART:20180210T170000Z
DTEND:20180210T200000Z
X-MICROSOFT-CDO-ALLDAYEVENT:FALSE
SUMMARY:STEM Saturday - Microorganisms: the Invisible World
DESCRIPTION:Explore the microscopic world of microorganisms with the Museum of Science and Sustainability at Tumbleweed Ranch. You'll see just how small bacteria really are and how fast they can multiply. Learn about the secret ingredients that keep the ecosystem -and your own body- running. The program is free. Drop by anytime between 10am-1pm. Hosted by the Chandler Museum Enjoy science experiments with the whole family. Programming done in partnership with the Museum of Science and Sustainability. Join us one Saturday every month\, October - May\, 10am-1pm\, Tumbleweed Ranch (located at Tumbleweed Park\, 2250 S. McQueen Road)\, Free*.
X-ALT-DESC;FMTTYPE=text/html:Explore the microscopic world of microorganisms with the Museum of Science and Sustainability at Tumbleweed Ranch. You&rsquo\;ll see just how small bacteria really are and how fast they can multiply. Learn about the secret ingredients that keep the ecosystem -and your own body- running. The program is free. Drop by anytime between 10am-1pm. Hosted by the Chandler Museum Enjoy science experiments with the whole family. Programming done in partnership with the Museum of Science and Sustainability. Join us one Saturday every month\, October - May\, 10am-1pm\, Tumbleweed Ranch (located at Tumbleweed Park\, 2250 S. McQueen Road)\, Free*.
LOCATION:Tumbleweed Ranch at Tumbleweed Park 2250 S. McQueen Rd. Chandler\, AZ 85286
UID:e.1561.19179
SEQUENCE:3
DTSTAMP:20260423T233049Z
URL:https://business.chandlerchamber.com/events/details/stem-saturday-microorganisms-the-invisible-world-19179
END:VEVENT

END:VCALENDAR
