BEGIN:VCALENDAR
VERSION:2.0
PRODID:-//ChamberMaster//Event Calendar 2.0//EN
METHOD:PUBLISH
X-PUBLISHED-TTL:P3D
REFRESH-INTERVAL:P3D
CALSCALE:GREGORIAN
BEGIN:VEVENT
DTSTART:20200314T180000Z
DTEND:20200314T210000Z
X-MICROSOFT-CDO-ALLDAYEVENT:FALSE
SUMMARY:STEM Saturday- Urban Gardening
DESCRIPTION:Thinking of growing a food garden but don't have a back yard? Maybe you'd like to keep your chives fresher than your refrigerator will keep them. Get your hands dirty with the Museum of Science and Sustainability this Saturday and experiment with different small-space gardening methods.
X-ALT-DESC;FMTTYPE=text/html:Thinking of growing a food garden but don&#39\;t have a back yard? Maybe you&#39\;d like to keep your chives fresher than your refrigerator will keep them. Get your hands dirty with the Museum of Science and Sustainability this Saturday and experiment with different small-space gardening methods.
LOCATION:Chandler Museum
UID:e.1561.38809
SEQUENCE:3
DTSTAMP:20260424T163554Z
URL:https://business.chandlerchamber.com/events/details/stem-saturday-urban-gardening-03-14-2020-38809
END:VEVENT

END:VCALENDAR
