BEGIN:VCALENDAR
VERSION:2.0
PRODID:-//ChamberMaster//Event Calendar 2.0//EN
METHOD:PUBLISH
X-PUBLISHED-TTL:P3D
REFRESH-INTERVAL:P3D
CALSCALE:GREGORIAN
BEGIN:VEVENT
DTSTART:20171014T170000Z
DTEND:20171014T200000Z
X-MICROSOFT-CDO-ALLDAYEVENT:FALSE
SUMMARY:STEM Saturday - Urban Gardening
DESCRIPTION:Come experience an ancient Native American farming tradition and explore companion planting with the Museum of Science and Sustainability at Tumbleweed Ranch. You'll have the chance to experiment with a water-conserving sub-irrigation method and make your own green onion preservation system that can last for months without refrigeration. The program is free. Drop by anytime between 10am-1pm. Hosted by the Chandler Museum. Enjoy science experiments with the whole family. Programming done in partnership with the Museum of Science and Sustainability. Join us one Saturday every month\, October - May\, 10am-1pm\, Tumbleweed Ranch (located at Tumbleweed Park\, 2250 S. McQueen Road)\, Free*.
X-ALT-DESC;FMTTYPE=text/html:Come experience an ancient Native American farming tradition and explore companion planting with the Museum of Science and Sustainability at Tumbleweed Ranch. You&rsquo\;ll have the chance to experiment with a water-conserving sub-irrigation method and make your own green onion preservation system that can last for months without refrigeration. The program is free. Drop by anytime between 10am-1pm. Hosted by the Chandler Museum. Enjoy science experiments with the whole family. Programming done in partnership with the Museum of Science and Sustainability. Join us one Saturday every month\, October - May\, 10am-1pm\, Tumbleweed Ranch (located at Tumbleweed Park\, 2250 S. McQueen Road)\, Free*.
LOCATION:Tumbleweed Ranch at Tumbleweed Park 2250 S. McQueen Rd. Chandler\, 85286
UID:e.1561.19176
SEQUENCE:3
DTSTAMP:20260424T051137Z
URL:https://business.chandlerchamber.com/events/details/stem-saturday-urban-gardening-19176
END:VEVENT

END:VCALENDAR
