BEGIN:VCALENDAR
VERSION:2.0
PRODID:-//ChamberMaster//Event Calendar 2.0//EN
METHOD:PUBLISH
X-PUBLISHED-TTL:P3D
REFRESH-INTERVAL:P3D
CALSCALE:GREGORIAN
BEGIN:VEVENT
DTSTART:20170924T000000Z
DTEND:20170924T050000Z
X-MICROSOFT-CDO-ALLDAYEVENT:FALSE
SUMMARY:Step Against Teen Dating Violence
DESCRIPTION:Kaity's Way has been hosting the "Step Against Teen Dating Violence" (SATDV) every year since 2010. This event is a fun-filled evening bringing awareness and raising funds to help the Arizona nonprofit put an end to teen dating violence. Those who attend can expect to enjoy a wonderful dinner\, raffle/silent auction and a spectacular program where dance teams get to show off their best moves. The audience votes for their favorite pair made up of community leaders and dance instructors from around the Valley. Don't miss out on the fun\, buy your ticket today!
X-ALT-DESC;FMTTYPE=text/html:Kaity&rsquo\;s Way has been hosting the &ldquo\;Step Against Teen Dating Violence&rdquo\; (SATDV) every year since 2010. This event is a fun-filled evening bringing awareness and raising funds to help the Arizona nonprofit put an end to teen dating violence. Those who attend can expect to enjoy a wonderful dinner\, raffle/silent auction and a spectacular program where dance teams get to show off their best moves. The audience votes for their favorite pair made up of community leaders and dance instructors from around the Valley. Don&#39\;t miss out on the fun\, buy your ticket today!
LOCATION:Black Canyon Conference Center 9440 N. 25th Ave.\, Phoenix AZ 85021
UID:e.1561.19089
SEQUENCE:3
DTSTAMP:20260424T051228Z
URL:https://business.chandlerchamber.com/events/details/step-against-teen-dating-violence-19089
END:VEVENT

END:VCALENDAR
