BEGIN:VCALENDAR
VERSION:2.0
PRODID:-//ChamberMaster//Event Calendar 2.0//EN
METHOD:PUBLISH
X-PUBLISHED-TTL:P3D
REFRESH-INTERVAL:P3D
CALSCALE:GREGORIAN
BEGIN:VEVENT
DTSTART:20190323T180000Z
DTEND:20190323T210000Z
X-MICROSOFT-CDO-ALLDAYEVENT:FALSE
SUMMARY:Step in their Shoes
DESCRIPTION:Walking in the lives of those who make up and impact our community using interactive and engaging activities.
X-ALT-DESC;FMTTYPE=text/html:Walking in the lives of those who make up and impact our community using interactive and engaging activities.
LOCATION:Chandler Museum 300 S. Chandler Village Dr. 85226
UID:e.1561.36403
SEQUENCE:3
DTSTAMP:20260423T061212Z
URL:https://business.chandlerchamber.com/events/details/step-in-their-shoes-03-23-2019-36403
END:VEVENT

END:VCALENDAR
