BEGIN:VCALENDAR
VERSION:2.0
PRODID:-//ChamberMaster//Event Calendar 2.0//EN
METHOD:PUBLISH
X-PUBLISHED-TTL:P3D
REFRESH-INTERVAL:P3D
CALSCALE:GREGORIAN
BEGIN:VEVENT
DTSTART:20190427T180000Z
DTEND:20190427T210000Z
X-MICROSOFT-CDO-ALLDAYEVENT:FALSE
SUMMARY:Step in their Shoes
DESCRIPTION:Walk in the lives of those who make up and impact our community using interactive and engaging activities. In April\, we will step in the shoes of Sheepherders in Arizona.
X-ALT-DESC;FMTTYPE=text/html:Walk in the lives of those who make up and impact our community using interactive and engaging activities. In April\, we will step in the shoes of Sheepherders in Arizona.
LOCATION:Chandler Museum: 300 S. Chandler Village Dr. 85226
UID:e.1561.36690
SEQUENCE:3
DTSTAMP:20260423T033253Z
URL:https://business.chandlerchamber.com/events/details/step-in-their-shoes-04-27-2019-36690
END:VEVENT

END:VCALENDAR
