BEGIN:VCALENDAR
VERSION:2.0
PRODID:-//ChamberMaster//Event Calendar 2.0//EN
METHOD:PUBLISH
X-PUBLISHED-TTL:P3D
REFRESH-INTERVAL:P3D
CALSCALE:GREGORIAN
BEGIN:VEVENT
DTSTART:20190525T180000Z
DTEND:20190525T210000Z
X-MICROSOFT-CDO-ALLDAYEVENT:FALSE
SUMMARY:Step in Their Shoes: Chandler Museum
DESCRIPTION:Walking in the lives of those who make up and impact our community using interactive and engaging activities. In May\, we step in the shoes of Chandler Athletes.
X-ALT-DESC;FMTTYPE=text/html:Walking in the lives of those who make up and impact our community using interactive and engaging activities. In May\, we step in the shoes of Chandler Athletes.
LOCATION:Chandler Museum: 300 S. Chandler Village Dr. 85226
UID:e.1561.36691
SEQUENCE:3
DTSTAMP:20260423T033339Z
URL:https://business.chandlerchamber.com/events/details/step-in-their-shoes-chandler-museum-36691
END:VEVENT

END:VCALENDAR
